BEGIN:VCALENDAR
VERSION:2.0
PRODID:-//Guild of NH Woodworkers - ECPv6.15.18//NONSGML v1.0//EN
CALSCALE:GREGORIAN
METHOD:PUBLISH
X-WR-CALNAME:Guild of NH Woodworkers
X-ORIGINAL-URL:https://gnhw.org
X-WR-CALDESC:Events for Guild of NH Woodworkers
REFRESH-INTERVAL;VALUE=DURATION:PT1H
X-Robots-Tag:noindex
X-PUBLISHED-TTL:PT1H
BEGIN:VTIMEZONE
TZID:America/New_York
BEGIN:DAYLIGHT
TZOFFSETFROM:-0500
TZOFFSETTO:-0400
TZNAME:EDT
DTSTART:20250309T070000
END:DAYLIGHT
BEGIN:STANDARD
TZOFFSETFROM:-0400
TZOFFSETTO:-0500
TZNAME:EST
DTSTART:20251102T060000
END:STANDARD
BEGIN:DAYLIGHT
TZOFFSETFROM:-0500
TZOFFSETTO:-0400
TZNAME:EDT
DTSTART:20260308T070000
END:DAYLIGHT
BEGIN:STANDARD
TZOFFSETFROM:-0400
TZOFFSETTO:-0500
TZNAME:EST
DTSTART:20261101T060000
END:STANDARD
BEGIN:DAYLIGHT
TZOFFSETFROM:-0500
TZOFFSETTO:-0400
TZNAME:EDT
DTSTART:20270314T070000
END:DAYLIGHT
BEGIN:STANDARD
TZOFFSETFROM:-0400
TZOFFSETTO:-0500
TZNAME:EST
DTSTART:20271107T060000
END:STANDARD
BEGIN:DAYLIGHT
TZOFFSETFROM:-0500
TZOFFSETTO:-0400
TZNAME:EDT
DTSTART:20280312T070000
END:DAYLIGHT
BEGIN:STANDARD
TZOFFSETFROM:-0400
TZOFFSETTO:-0500
TZNAME:EST
DTSTART:20281105T060000
END:STANDARD
END:VTIMEZONE
BEGIN:VEVENT
DTSTART;TZID=America/New_York:20260425T090000
DTEND;TZID=America/New_York:20260425T120000
DTSTAMP:20260425T091545
CREATED:20260325T174115Z
LAST-MODIFIED:20260325T174115Z
UID:10000063-1777107600-1777118400@gnhw.org
SUMMARY:GSWT April 2026 meeting
DESCRIPTION:          \nJoin us for a live demonstration by our own Claude Dupuis on turning a lidded box with thread chasing.\nThis is a demo Claude will be performing at the AAW Symposium June 4-7 in Raleigh\, NC.
URL:https://gnhw.org/event/gswt-april-2026-meeting/
LOCATION:Bow Old Town Hall\, 91 Bow Center Rd\, Bow\, 03304\, United States
ORGANIZER;CN="Woodturners Subgroup":MAILTO:wood-turners@gnhw.org
END:VEVENT
BEGIN:VEVENT
DTSTART;TZID=America/New_York:20260502T090000
DTEND;TZID=America/New_York:20260502T120000
DTSTAMP:20260425T091545
CREATED:20260419T212401Z
LAST-MODIFIED:20260419T222531Z
UID:10000070-1777712400-1777723200@gnhw.org
SUMMARY:Boatbuilders - Spring Meeting with Nate Piper
DESCRIPTION:  \n \nOur first meeting of the spring will be hosted by Nate Piper on May 2nd at the Wentworth-Garner House in Portsmouth. \nNew this spring: Nate has relocated his summer camp activities from Strawbery Banke to the Wentworth-Gardner House (closer to the river\, just a couple of blocks SE of the Strawbery Banke grounds).  Members of the Wentworth Gardner House will be available for introductions and background of the property and buildings and we will highlight the excitement of our new partnership. \nFor the “Skill Building” part of the meeting we will work through the process of creating the drawings to build a half model of our Piscataqua River Wherry. We took the dimensions off of the original and created a table of offsets. Our next step will be to generate water line lifts for building the half model. It will be like lofting at the half model scale. If you are a seasoned boat builder\, or just thinking about your first boat\, this is a great opportunity to see a professional boatbuilder go thru the process of using a table of offsets to create curves to build from. We’ll be reviewing what the information in the table of offsets is telling us\, laying out the points in the plane of the waterlines\, and using splines & spline weights to mark the curves. (at the scale of a half-model)\n\n\nAlso\, the same day and location we will be having a Boatshop Volunteer orientation from 1300 – 1500. GNHW members from the morning program are welcome and encouraged to join.
URL:https://gnhw.org/event/boatbuilders-spring-meeting-with-nate-piper/
LOCATION:Wentworth Gardner House\, 50 Mechanic St\, Portsmouth\, NH\, 03801\, United States
CATEGORIES:Boat Builders
END:VEVENT
BEGIN:VEVENT
DTSTART;TZID=America/New_York:20260516T100000
DTEND;TZID=America/New_York:20260516T130000
DTSTAMP:20260425T091545
CREATED:20260421T140502Z
LAST-MODIFIED:20260425T120610Z
UID:10000072-1778925600-1778936400@gnhw.org
SUMMARY:Sharpening Gouges for carvers
DESCRIPTION:Mike DiMaggio will demonstrate techniques of sharpening gouges and knives for carvers. Woodworkers usually work with flat tools\, but carving tools come in all shapes and curves that can be challenging to sharpen.  Mike will show techniques to help improve our sharpening skills and ease our frustrations of dealing with dull tools! \nBring any sharpening equipment that you may have\, diamond stones\, water\, oil\, slip stones. Mike will also provide strops  for putting on those finished touches!  The class will be held in our room at Shaker Village on Saturday May 16 from 10am-1pm\, but feel free to stay longer to sharpen more or carve! Class will be limited to 20 people.
URL:https://gnhw.org/event/sharpening-gouges-for-carvers/
LOCATION:Guild Library at Shaker Village\, 288 Shaker Road\, Canterbury\, NH\, 03224\, United States
ORGANIZER;CN="Carving Subgroup":MAILTO:wood-carvers@gnhw.org
END:VEVENT
BEGIN:VEVENT
DTSTART;TZID=America/New_York:20260516T110000
DTEND;TZID=America/New_York:20260516T130000
DTSTAMP:20260425T091545
CREATED:20260405T150321Z
LAST-MODIFIED:20260415T103149Z
UID:10000066-1778929200-1778936400@gnhw.org
SUMMARY:Small Meeting tour of Olde Window Restorers
DESCRIPTION:Join us for a tour of Olde Window Restorers in Warner NH \nThe General Manager Alden Witham will be giving us a tour of their operations. \nOlde Window Restorers repairs\, maintains\, and weatherizes antique windows in residential\, municipal\, & sacred buildings throughout NH. They also build custom wooden storms featuring interchangeable glass & screen inserts. OWR has been in operation since 2004 and currently operates from the former fire station in Warner\, with 4 employees. Most of their work encompasses complete window restoration\, starting with glass removal using a steam cabinet\, paint stripping with infrared technology\, through wood repairs\, glazing\, and finally hand painting. The wood storms are built in-house from Accoya lumber with mortise & tenon joinery.
URL:https://gnhw.org/event/small-meeting-tour-of-olde-window-restorers/
LOCATION:Olde Window Restorers\, 27 E. Main St\, Warner\, NH\, 03278
CATEGORIES:Small Meeting
ORGANIZER;CN="GNHW":MAILTO:general-meetings@gnhw.org
END:VEVENT
BEGIN:VEVENT
DTSTART;TZID=America/New_York:20260530T100000
DTEND;TZID=America/New_York:20260530T150000
DTSTAMP:20260425T091545
CREATED:20260307T144046Z
LAST-MODIFIED:20260307T145447Z
UID:10000054-1780135200-1780153200@gnhw.org
SUMMARY:Join Us: A Belated 35th Anniversary Celebration! - Pot Luck Lunch at Woodworks at Lakeside Farm
DESCRIPTION:Technically\, it’s been 36 years since our founding—but when you’re having this much woodworking fun\, who’s counting? We are thrilled to invite the entire New Hampshire woodworking community\, along with your families and friends\, to a special anniversary gathering. \nThe Details\n\nWhen: Saturday\, May 30\, 2026 | 10:00 AM – 3:00 PM\nWhere: Carl Moskey’s property (Woodworks at Lakeside Farm)\nFood: The Guild is providing the hot dogs!\nPotluck: Please bring something to share—sides\, desserts\, beverages\, or other items for the grill.\n\nA Look Back at Our Roots\nThe Guild’s journey began on April 28\, 1990. Founders Paul Tuller and John McAlevey convened a meeting at John’s shop in Warner\, NH\, joined by twelve other pioneering woodworkers (including Terry Moore\, David Lamb\, Roy Noyes\, Steve Cunliffe\, Jon Siegel\, Jere Osgood\, John Skewes\, and David Emerson). They envisioned an organization dedicated solely to the craft of woodworking\, and 36 years later\, that vision is stronger than ever. \nWhat to Expect\nCome enjoy a beautiful spring day on Carl Moskey’s lovely property. Activities include: \n\nProperty Tours: Explore the grounds and see the famous “magic tree.”\nHistory Lesson: Learn about the unique heritage of Lakeside Farm.\nThe Mill: Take a tour of Carl’s state-of-the-art sawmill.\n\nRegistration & Carpooling\nTo ensure we have enough hot dogs for everyone\, please register in advance. > Important: When you finish the registration process\, please slide the button under the blue check mark to the right at the end of the registration process. This lets other members know you are attending\, which helps coordinate carpooling for those interested!
URL:https://gnhw.org/event/join-us-a-belated-35th-anniversary-celebration-pot-luck-lunch-at-woodworks-at-lakeside-farm/
LOCATION:Woodworks at Lakeside Farm\, 943 Quaker Street\, Henniker\, NH\, 03242\, United States
CATEGORIES:Guild Social Event
ATTACH;FMTTYPE=image/webp:https://gnhw.org/wp-content/uploads/2026/03/Carls-farm-2026.webp
END:VEVENT
BEGIN:VEVENT
DTSTART;TZID=America/New_York:20260718T120000
DTEND;TZID=America/New_York:20260718T150000
DTSTAMP:20260425T091545
CREATED:20260327T160118Z
LAST-MODIFIED:20260327T160118Z
UID:10000064-1784376000-1784386800@gnhw.org
SUMMARY:Summer Trip to Lie-Nielsen
DESCRIPTION:Lie-Nielsen will have two of their staff come in for us from 12 to 3pm.\nThe tour will start at 12 noon.  \nWe will walk  through our entire production process\, showing samples of parts and operations along the way.  The length of the tour depends on how many questions come up\, but at least an hour\, at most two.  \nAfter the tour\, people are welcome to try tools in our showroom and make purchases if they’d like.  Please note: If guild members have specific tools they hope to buy during their visit\, it’s a good idea to check with us beforehand to make sure it’s in stock.\nI will need a head count so the sign up will be cut off May 30th\nAny questions reach out to me\,  stevecostain@gmail.com or 603 498 2620
URL:https://gnhw.org/event/summer-trip-to-lie-nielsen/
LOCATION:Lie-Nielsen Toolworks 264 Stirling Road Warren\, ME 04864\, 264 Stirling Road\, warren\, 04864
CATEGORIES:Guild Social Event
ORGANIZER;CN="GNHW":MAILTO:general-meetings@gnhw.org
END:VEVENT
BEGIN:VEVENT
DTSTART;TZID=America/New_York:20260912T090000
DTEND;TZID=America/New_York:20260912T150000
DTSTAMP:20260425T091545
CREATED:20251007T135326Z
LAST-MODIFIED:20251007T135326Z
UID:10000031-1789203600-1789225200@gnhw.org
SUMMARY:Annual Meeting
DESCRIPTION:Annual Meeting – Detials to Come
URL:https://gnhw.org/event/annual-meeting/
LOCATION:Bow Community Center\, 3 Bow Center Road\, Bow\, NH\, 03304\, United States
ORGANIZER;CN="GNHW":MAILTO:general-meetings@gnhw.org
END:VEVENT
BEGIN:VEVENT
DTSTART;TZID=America/New_York:20261212T090000
DTEND;TZID=America/New_York:20261212T170000
DTSTAMP:20260425T091545
CREATED:20251007T135536Z
LAST-MODIFIED:20251209T141030Z
UID:10000032-1797066000-1797094800@gnhw.org
SUMMARY:General Meeting
DESCRIPTION:General Meeting – Details to Come
URL:https://gnhw.org/event/general-meeting-4/
ORGANIZER;CN="GNHW":MAILTO:general-meetings@gnhw.org
END:VEVENT
BEGIN:VEVENT
DTSTART;TZID=America/New_York:20270220T090000
DTEND;TZID=America/New_York:20270220T150000
DTSTAMP:20260425T091545
CREATED:20260325T112817Z
LAST-MODIFIED:20260325T113042Z
UID:10000059-1803114000-1803135600@gnhw.org
SUMMARY:General Meeting
DESCRIPTION:General Meeting – Details to Come
URL:https://gnhw.org/event/general-meeting-5/
ORGANIZER;CN="GNHW":MAILTO:general-meetings@gnhw.org
END:VEVENT
BEGIN:VEVENT
DTSTART;TZID=America/New_York:20270417T090000
DTEND;TZID=America/New_York:20270417T150000
DTSTAMP:20260425T091545
CREATED:20260325T113021Z
LAST-MODIFIED:20260325T113021Z
UID:10000060-1807952400-1807974000@gnhw.org
SUMMARY:General Meeting
DESCRIPTION:General Meeting – Details to Come
URL:https://gnhw.org/event/general-meeting-6/
ORGANIZER;CN="GNHW":MAILTO:general-meetings@gnhw.org
END:VEVENT
BEGIN:VEVENT
DTSTART;TZID=America/New_York:20270911T090000
DTEND;TZID=America/New_York:20270911T150000
DTSTAMP:20260425T091545
CREATED:20260325T113128Z
LAST-MODIFIED:20260325T113144Z
UID:10000061-1820653200-1820674800@gnhw.org
SUMMARY:General Meeting
DESCRIPTION:General Meeting – Details to Come
URL:https://gnhw.org/event/general-meeting-7/
ORGANIZER;CN="GNHW":MAILTO:general-meetings@gnhw.org
END:VEVENT
BEGIN:VEVENT
DTSTART;TZID=America/New_York:20271211T090000
DTEND;TZID=America/New_York:20271211T150000
DTSTAMP:20260425T091545
CREATED:20260325T113219Z
LAST-MODIFIED:20260325T113219Z
UID:10000062-1828515600-1828537200@gnhw.org
SUMMARY:General Meeting
DESCRIPTION:General Meeting – Details to Come
URL:https://gnhw.org/event/general-meeting-8/
ORGANIZER;CN="GNHW":MAILTO:general-meetings@gnhw.org
END:VEVENT
END:VCALENDAR